Package: chimeraviz Version: 1.33.0 Command: E:\biocbuild\bbs-3.21-bioc\R\bin\R.exe CMD check --no-multiarch --install=check:chimeraviz.install-out.txt --library=E:\biocbuild\bbs-3.21-bioc\R\library --no-vignettes --timings chimeraviz_1.33.0.tar.gz StartedAt: 2025-02-09 23:34:08 -0500 (Sun, 09 Feb 2025) EndedAt: 2025-02-09 23:46:23 -0500 (Sun, 09 Feb 2025) EllapsedTime: 735.3 seconds RetCode: 0 Status: OK CheckDir: chimeraviz.Rcheck Warnings: 0