Package: chipenrich Version: 2.31.0 Maintainer: Kai Wang MaintainerEmail: wangdaha at umich.edu git_url: https://git.bioconductor.org/packages/chipenrich git_branch: devel git_last_commit: d63d29d git_last_commit_date: 2025-01-28 12:38:26 -0500 (Tue, 28 Jan 2025)