Package: chipenrich Version: 2.31.0 Command: /home/biocbuild/R/R/bin/R CMD build --keep-empty-dirs --no-resave-data chipenrich StartedAt: 2025-01-28 21:47:23 -0000 (Tue, 28 Jan 2025) EndedAt: 2025-01-28 21:49:36 -0000 (Tue, 28 Jan 2025) EllapsedTime: 133.0 seconds RetCode: 0 Status: OK PackageFile: chipenrich_2.31.0.tar.gz PackageFileSize: 534.6 KiB