Package: chipenrich Version: 2.31.0 Command: rm -rf chipenrich.buildbin-libdir && mkdir chipenrich.buildbin-libdir && /Users/biocbuild/BBS/utils/build-universal.sh chipenrich_2.31.0.tar.gz /Library/Frameworks/R.framework/Resources/bin/R chipenrich.buildbin-libdir StartedAt: 2025-02-10 00:46:16 -0500 (Mon, 10 Feb 2025) EndedAt: 2025-02-10 00:47:19 -0500 (Mon, 10 Feb 2025) EllapsedTime: 62.3 seconds RetCode: 0 Status: OK PackageFile: chipenrich_2.31.0.tgz PackageFileSize: 885.1 KiB