Package: chipenrich Version: 2.31.0 Command: /Library/Frameworks/R.framework/Resources/bin/R CMD check --install=check:chipenrich.install-out.txt --library=/Library/Frameworks/R.framework/Resources/library --no-vignettes --timings chipenrich_2.31.0.tar.gz StartedAt: 2025-02-09 19:43:18 -0500 (Sun, 09 Feb 2025) EndedAt: 2025-02-09 19:52:49 -0500 (Sun, 09 Feb 2025) EllapsedTime: 570.9 seconds RetCode: 0 Status: OK CheckDir: chipenrich.Rcheck Warnings: 0