Package: chipenrich Version: 2.31.0 Command: /home/biocbuild/bbs-3.21-bioc/R/bin/R CMD build --keep-empty-dirs --no-resave-data chipenrich StartedAt: 2025-02-04 16:35:37 -0500 (Tue, 04 Feb 2025) EndedAt: 2025-02-04 16:37:10 -0500 (Tue, 04 Feb 2025) EllapsedTime: 93.1 seconds RetCode: 0 Status: OK PackageFile: chipenrich_2.31.0.tar.gz PackageFileSize: 765.5 KiB