Package: chipenrich Version: 2.31.0 Command: rm -rf chipenrich.buildbin-libdir && mkdir chipenrich.buildbin-libdir && E:\biocbuild\bbs-3.21-bioc\R\bin\R.exe CMD INSTALL --build --library=chipenrich.buildbin-libdir chipenrich_2.31.0.tar.gz StartedAt: 2025-02-10 07:26:22 -0500 (Mon, 10 Feb 2025) EndedAt: 2025-02-10 07:27:29 -0500 (Mon, 10 Feb 2025) EllapsedTime: 67.0 seconds RetCode: 0 Status: OK PackageFile: chipenrich_2.31.0.zip PackageFileSize: 674.6 KiB