Package: chipenrich Version: 2.31.0 Command: chmod a+r chipenrich -R && E:\biocbuild\bbs-3.21-bioc\R\bin\R.exe CMD build --keep-empty-dirs --no-resave-data chipenrich StartedAt: 2025-02-09 17:48:45 -0500 (Sun, 09 Feb 2025) EndedAt: 2025-02-09 17:50:46 -0500 (Sun, 09 Feb 2025) EllapsedTime: 120.9 seconds RetCode: 0 Status: OK PackageFile: chipenrich_2.31.0.tar.gz PackageFileSize: 439.4 KiB