Package: chipenrich Version: 2.31.0 Command: E:\biocbuild\bbs-3.21-bioc\R\bin\R.exe CMD check --no-multiarch --install=check:chipenrich.install-out.txt --library=E:\biocbuild\bbs-3.21-bioc\R\library --no-vignettes --timings chipenrich_2.31.0.tar.gz StartedAt: 2025-02-09 23:34:57 -0500 (Sun, 09 Feb 2025) EndedAt: 2025-02-09 23:44:45 -0500 (Sun, 09 Feb 2025) EllapsedTime: 588.2 seconds RetCode: 0 Status: OK CheckDir: chipenrich.Rcheck Warnings: 0