Package: chipenrich Version: 2.31.0 Command: E:\biocbuild\bbs-3.21-bioc\R\bin\R.exe CMD INSTALL chipenrich StartedAt: 2025-02-09 16:43:40 -0500 (Sun, 09 Feb 2025) EndedAt: 2025-02-09 16:44:52 -0500 (Sun, 09 Feb 2025) EllapsedTime: 72.0 seconds RetCode: 0 Status: OK