Package: chipseq Version: 1.57.0 Command: rm -rf chipseq.buildbin-libdir && mkdir chipseq.buildbin-libdir && /Users/biocbuild/BBS/utils/build-universal.sh chipseq_1.57.0.tar.gz /Library/Frameworks/R.framework/Resources/bin/R chipseq.buildbin-libdir StartedAt: 2025-02-09 22:09:10 -0500 (Sun, 09 Feb 2025) EndedAt: 2025-02-09 22:09:24 -0500 (Sun, 09 Feb 2025) EllapsedTime: 14.2 seconds RetCode: 0 Status: OK PackageFile: chipseq_1.57.0.tgz PackageFileSize: 2.498 MiB