Package: chipseq Version: 1.57.0 Command: /Library/Frameworks/R.framework/Resources/bin/R CMD INSTALL chipseq StartedAt: 2025-02-09 15:14:18 -0500 (Sun, 09 Feb 2025) EndedAt: 2025-02-09 15:14:30 -0500 (Sun, 09 Feb 2025) EllapsedTime: 11.9 seconds RetCode: 0 Status: OK