Package: chipseq Version: 1.57.0 Command: /home/biocbuild/R/R/bin/R CMD build --keep-empty-dirs --no-resave-data chipseq StartedAt: 2025-01-28 21:48:34 -0000 (Tue, 28 Jan 2025) EndedAt: 2025-01-28 21:53:51 -0000 (Tue, 28 Jan 2025) EllapsedTime: 316.4 seconds RetCode: 0 Status: OK PackageFile: chipseq_1.57.0.tar.gz PackageFileSize: 2.143 MiB