Package: chipseq Version: 1.57.0 Command: /home/biocbuild/R/R/bin/R CMD check --install=check:chipseq.install-out.txt --library=/home/biocbuild/R/R/site-library --no-vignettes --timings chipseq_1.57.0.tar.gz StartedAt: 2025-01-28 09:08:28 -0000 (Tue, 28 Jan 2025) EndedAt: 2025-01-28 09:13:05 -0000 (Tue, 28 Jan 2025) EllapsedTime: 276.2 seconds RetCode: 0 Status: WARNINGS CheckDir: chipseq.Rcheck Warnings: 2