Package: chipseq Version: 1.57.0 Command: /home/biocbuild/R/R/bin/R CMD INSTALL chipseq StartedAt: 2025-01-29 20:01:20 -0000 (Wed, 29 Jan 2025) EndedAt: 2025-01-29 20:02:00 -0000 (Wed, 29 Jan 2025) EllapsedTime: 40.5 seconds RetCode: 0 Status: OK