Package: chipseq Version: 1.57.0 Command: /Library/Frameworks/R.framework/Resources/bin/R CMD build --keep-empty-dirs --no-resave-data chipseq StartedAt: 2025-02-04 16:12:41 -0500 (Tue, 04 Feb 2025) EndedAt: 2025-02-04 16:15:15 -0500 (Tue, 04 Feb 2025) EllapsedTime: 153.9 seconds RetCode: 0 Status: OK PackageFile: chipseq_1.57.0.tar.gz PackageFileSize: 2.42 MiB