Package: chipseq Version: 1.57.0 Command: /Library/Frameworks/R.framework/Resources/bin/R CMD INSTALL chipseq StartedAt: 2025-02-04 15:27:00 -0500 (Tue, 04 Feb 2025) EndedAt: 2025-02-04 15:27:40 -0500 (Tue, 04 Feb 2025) EllapsedTime: 40.1 seconds RetCode: 0 Status: OK