Package: chipseq Version: 1.57.0 Command: /home/biocbuild/bbs-3.21-bioc/R/bin/R CMD build --keep-empty-dirs --no-resave-data chipseq StartedAt: 2025-02-04 16:35:49 -0500 (Tue, 04 Feb 2025) EndedAt: 2025-02-04 16:39:15 -0500 (Tue, 04 Feb 2025) EllapsedTime: 206.2 seconds RetCode: 0 Status: OK PackageFile: chipseq_1.57.0.tar.gz PackageFileSize: 2.456 MiB