Package: chipseq Version: 1.57.0 Command: /home/biocbuild/bbs-3.21-bioc/R/bin/R CMD check --install=check:chipseq.install-out.txt --library=/home/biocbuild/bbs-3.21-bioc/R/site-library --timings chipseq_1.57.0.tar.gz StartedAt: 2025-02-04 20:51:32 -0500 (Tue, 04 Feb 2025) EndedAt: 2025-02-04 20:57:36 -0500 (Tue, 04 Feb 2025) EllapsedTime: 363.5 seconds RetCode: 0 Status: WARNINGS CheckDir: chipseq.Rcheck Warnings: 2