Package: chipseq Version: 1.57.0 Command: /home/biocbuild/bbs-3.21-bioc/R/bin/R CMD INSTALL chipseq StartedAt: 2025-02-04 15:49:18 -0500 (Tue, 04 Feb 2025) EndedAt: 2025-02-04 15:49:49 -0500 (Tue, 04 Feb 2025) EllapsedTime: 31.0 seconds RetCode: 0 Status: OK