Package: chipseq Version: 1.57.0 Command: rm -rf chipseq.buildbin-libdir && mkdir chipseq.buildbin-libdir && E:\biocbuild\bbs-3.21-bioc\R\bin\R.exe CMD INSTALL --build --library=chipseq.buildbin-libdir chipseq_1.57.0.tar.gz StartedAt: 2025-02-05 07:38:28 -0500 (Wed, 05 Feb 2025) EndedAt: 2025-02-05 07:39:05 -0500 (Wed, 05 Feb 2025) EllapsedTime: 36.7 seconds RetCode: 0 Status: OK PackageFile: chipseq_1.57.0.zip PackageFileSize: 2.115 MiB