Package: chipseq Version: 1.57.0 Command: chmod a+r chipseq -R && E:\biocbuild\bbs-3.21-bioc\R\bin\R.exe CMD build --keep-empty-dirs --no-resave-data chipseq StartedAt: 2025-02-04 17:47:38 -0500 (Tue, 04 Feb 2025) EndedAt: 2025-02-04 17:51:29 -0500 (Tue, 04 Feb 2025) EllapsedTime: 230.8 seconds RetCode: 0 Status: OK PackageFile: chipseq_1.57.0.tar.gz PackageFileSize: 2.031 MiB