Package: chipseq Version: 1.57.0 Command: E:\biocbuild\bbs-3.21-bioc\R\bin\R.exe CMD check --no-multiarch --install=check:chipseq.install-out.txt --library=E:\biocbuild\bbs-3.21-bioc\R\library --no-vignettes --timings chipseq_1.57.0.tar.gz StartedAt: 2025-02-05 00:02:35 -0500 (Wed, 05 Feb 2025) EndedAt: 2025-02-05 00:07:17 -0500 (Wed, 05 Feb 2025) EllapsedTime: 281.4 seconds RetCode: 0 Status: WARNINGS CheckDir: chipseq.Rcheck Warnings: 2