Package: chipseq Version: 1.57.0 Command: E:\biocbuild\bbs-3.21-bioc\R\bin\R.exe CMD INSTALL chipseq StartedAt: 2025-02-04 16:21:37 -0500 (Tue, 04 Feb 2025) EndedAt: 2025-02-04 16:22:30 -0500 (Tue, 04 Feb 2025) EllapsedTime: 53.3 seconds RetCode: 0 Status: OK