Package: chopsticks Version: 1.73.0 Maintainer: Hin-Tak Leung MaintainerEmail: htl10 at users.sourceforge.net git_url: https://git.bioconductor.org/packages/chopsticks git_branch: devel git_last_commit: 8e3687b git_last_commit_date: 2024-12-04 17:57:33 -0500 (Wed, 04 Dec 2024)