Package: chopsticks Version: 1.73.0 Command: rm -rf chopsticks.buildbin-libdir && mkdir chopsticks.buildbin-libdir && /Users/biocbuild/BBS/utils/build-universal.sh chopsticks_1.73.0.tar.gz /Library/Frameworks/R.framework/Resources/bin/R chopsticks.buildbin-libdir StartedAt: 2025-02-09 22:09:14 -0500 (Sun, 09 Feb 2025) EndedAt: 2025-02-09 22:09:22 -0500 (Sun, 09 Feb 2025) EllapsedTime: 8.1 seconds RetCode: 0 Status: OK PackageFile: chopsticks_1.73.0.tgz PackageFileSize: 5.394 MiB