Package: chopsticks Version: 1.73.0 Command: /Library/Frameworks/R.framework/Resources/bin/R CMD build --keep-empty-dirs --no-resave-data chopsticks StartedAt: 2025-02-12 15:53:35 -0500 (Wed, 12 Feb 2025) EndedAt: 2025-02-12 15:53:47 -0500 (Wed, 12 Feb 2025) EllapsedTime: 11.1 seconds RetCode: 0 Status: OK PackageFile: chopsticks_1.73.0.tar.gz PackageFileSize: 6.643 MiB