Package: chopsticks Version: 1.73.0 Command: /Library/Frameworks/R.framework/Resources/bin/R CMD check --install=check:chopsticks.install-out.txt --library=/Library/Frameworks/R.framework/Resources/library --no-vignettes --timings chopsticks_1.73.0.tar.gz StartedAt: 2025-02-09 18:30:18 -0500 (Sun, 09 Feb 2025) EndedAt: 2025-02-09 18:30:43 -0500 (Sun, 09 Feb 2025) EllapsedTime: 25.3 seconds RetCode: 0 Status: WARNINGS CheckDir: chopsticks.Rcheck Warnings: 3