Package: chopsticks Version: 1.73.0 Command: /Library/Frameworks/R.framework/Resources/bin/R CMD INSTALL chopsticks StartedAt: 2025-02-09 15:19:35 -0500 (Sun, 09 Feb 2025) EndedAt: 2025-02-09 15:19:42 -0500 (Sun, 09 Feb 2025) EllapsedTime: 6.7 seconds RetCode: 0 Status: OK