Package: chopsticks Version: 1.73.0 Command: /home/biocbuild/R/R/bin/R CMD build --keep-empty-dirs --no-resave-data chopsticks StartedAt: 2025-01-28 21:49:37 -0000 (Tue, 28 Jan 2025) EndedAt: 2025-01-28 21:50:12 -0000 (Tue, 28 Jan 2025) EllapsedTime: 35.0 seconds RetCode: 0 Status: OK PackageFile: chopsticks_1.73.0.tar.gz PackageFileSize: 6.638 MiB