Package: chopsticks Version: 1.73.0 Command: /home/biocbuild/bbs-3.21-bioc/R/bin/R CMD check --install=check:chopsticks.install-out.txt --library=/home/biocbuild/bbs-3.21-bioc/R/site-library --timings chopsticks_1.73.0.tar.gz StartedAt: 2025-02-09 20:54:16 -0500 (Sun, 09 Feb 2025) EndedAt: 2025-02-09 20:55:17 -0500 (Sun, 09 Feb 2025) EllapsedTime: 61.1 seconds RetCode: 0 Status: WARNINGS CheckDir: chopsticks.Rcheck Warnings: 3