Package: chopsticks Version: 1.73.0 Command: rm -rf chopsticks.buildbin-libdir && mkdir chopsticks.buildbin-libdir && E:\biocbuild\bbs-3.21-bioc\R\bin\R.exe CMD INSTALL --build --library=chopsticks.buildbin-libdir chopsticks_1.73.0.tar.gz StartedAt: 2025-02-10 07:26:44 -0500 (Mon, 10 Feb 2025) EndedAt: 2025-02-10 07:27:33 -0500 (Mon, 10 Feb 2025) EllapsedTime: 49.0 seconds RetCode: 0 Status: OK PackageFile: chopsticks_1.73.0.zip PackageFileSize: 5.306 MiB