Package: chopsticks Version: 1.73.0 Command: chmod a+r chopsticks -R && E:\biocbuild\bbs-3.21-bioc\R\bin\R.exe CMD build --keep-empty-dirs --no-resave-data chopsticks StartedAt: 2025-02-09 17:49:57 -0500 (Sun, 09 Feb 2025) EndedAt: 2025-02-09 17:50:55 -0500 (Sun, 09 Feb 2025) EllapsedTime: 57.8 seconds RetCode: 0 Status: OK PackageFile: chopsticks_1.73.0.tar.gz PackageFileSize: 6.556 MiB