Package: chopsticks Version: 1.73.0 Command: E:\biocbuild\bbs-3.21-bioc\R\bin\R.exe CMD check --no-multiarch --install=check:chopsticks.install-out.txt --library=E:\biocbuild\bbs-3.21-bioc\R\library --no-vignettes --timings chopsticks_1.73.0.tar.gz StartedAt: 2025-02-09 23:36:22 -0500 (Sun, 09 Feb 2025) EndedAt: 2025-02-09 23:37:30 -0500 (Sun, 09 Feb 2025) EllapsedTime: 67.6 seconds RetCode: 0 Status: WARNINGS CheckDir: chopsticks.Rcheck Warnings: 2