Package: chromPlot Version: 1.35.0 Command: /Library/Frameworks/R.framework/Resources/bin/R CMD build --keep-empty-dirs --no-resave-data chromPlot StartedAt: 2025-02-09 16:16:24 -0500 (Sun, 09 Feb 2025) EndedAt: 2025-02-09 16:17:15 -0500 (Sun, 09 Feb 2025) EllapsedTime: 50.3 seconds RetCode: 0 Status: OK PackageFile: chromPlot_1.35.0.tar.gz PackageFileSize: 1.519 MiB