Package: chromPlot Version: 1.35.0 Command: rm -rf chromPlot.buildbin-libdir && mkdir chromPlot.buildbin-libdir && E:\biocbuild\bbs-3.21-bioc\R\bin\R.exe CMD INSTALL --build --library=chromPlot.buildbin-libdir chromPlot_1.35.0.tar.gz StartedAt: 2025-02-13 07:38:15 -0500 (Thu, 13 Feb 2025) EndedAt: 2025-02-13 07:38:39 -0500 (Thu, 13 Feb 2025) EllapsedTime: 24.5 seconds RetCode: 0 Status: OK PackageFile: chromPlot_1.35.0.zip PackageFileSize: 1.429 MiB