Package: chromVAR Version: 1.29.0 Command: rm -rf chromVAR.buildbin-libdir && mkdir chromVAR.buildbin-libdir && /Users/biocbuild/BBS/utils/build-universal.sh chromVAR_1.29.0.tar.gz /Library/Frameworks/R.framework/Resources/bin/R chromVAR.buildbin-libdir StartedAt: 2025-02-09 22:09:22 -0500 (Sun, 09 Feb 2025) EndedAt: 2025-02-09 22:09:48 -0500 (Sun, 09 Feb 2025) EllapsedTime: 26.5 seconds RetCode: 0 Status: OK PackageFile: chromVAR_1.29.0.tgz PackageFileSize: 1.374 MiB