Package: chromVAR Version: 1.29.0 Command: rm -rf chromVAR.buildbin-libdir && mkdir chromVAR.buildbin-libdir && /Users/biocbuild/BBS/utils/build-universal.sh chromVAR_1.29.0.tar.gz /Library/Frameworks/R.framework/Resources/bin/R chromVAR.buildbin-libdir StartedAt: 2025-02-05 00:33:01 -0500 (Wed, 05 Feb 2025) EndedAt: 2025-02-05 00:34:31 -0500 (Wed, 05 Feb 2025) EllapsedTime: 90.1 seconds RetCode: 0 Status: OK PackageFile: chromVAR_1.29.0.tgz PackageFileSize: 1.379 MiB