Package: chromVAR Version: 1.29.0 Command: rm -rf chromVAR.buildbin-libdir && mkdir chromVAR.buildbin-libdir && E:\biocbuild\bbs-3.21-bioc\R\bin\R.exe CMD INSTALL --build --library=chromVAR.buildbin-libdir chromVAR_1.29.0.tar.gz StartedAt: 2025-02-05 07:38:50 -0500 (Wed, 05 Feb 2025) EndedAt: 2025-02-05 07:40:38 -0500 (Wed, 05 Feb 2025) EllapsedTime: 107.9 seconds RetCode: 0 Status: OK PackageFile: chromVAR_1.29.0.zip PackageFileSize: 1.598 MiB