Package: chromVAR Version: 1.29.0 Command: chmod a+r chromVAR -R && E:\biocbuild\bbs-3.21-bioc\R\bin\R.exe CMD build --keep-empty-dirs --no-resave-data chromVAR StartedAt: 2025-02-04 17:49:32 -0500 (Tue, 04 Feb 2025) EndedAt: 2025-02-04 17:53:07 -0500 (Tue, 04 Feb 2025) EllapsedTime: 215.8 seconds RetCode: 0 Status: OK PackageFile: chromVAR_1.29.0.tar.gz PackageFileSize: 424 KiB