Package: chromVAR Version: 1.29.0 Command: E:\biocbuild\bbs-3.21-bioc\R\bin\R.exe CMD check --no-multiarch --install=check:chromVAR.install-out.txt --library=E:\biocbuild\bbs-3.21-bioc\R\library --no-vignettes --timings chromVAR_1.29.0.tar.gz StartedAt: 2025-02-05 00:04:11 -0500 (Wed, 05 Feb 2025) EndedAt: 2025-02-05 00:12:10 -0500 (Wed, 05 Feb 2025) EllapsedTime: 479.4 seconds RetCode: 0 Status: OK CheckDir: chromVAR.Rcheck Warnings: 0