Package: chromstaR Version: 1.33.1 Maintainer: Aaron Taudt MaintainerEmail: aaron.taudt at gmail.com git_url: https://git.bioconductor.org/packages/chromstaR git_branch: devel git_last_commit: 225ab60 git_last_commit_date: 2024-12-17 10:43:18 -0500 (Tue, 17 Dec 2024)