Package: chromstaR Version: 1.33.1 Command: /home/biocbuild/R/R/bin/R CMD INSTALL chromstaR StartedAt: 2025-01-29 19:47:41 -0000 (Wed, 29 Jan 2025) EndedAt: 2025-01-29 19:47:44 -0000 (Wed, 29 Jan 2025) EllapsedTime: 3.0 seconds RetCode: 1 Status: ERROR