Package: circRNAprofiler Version: 1.21.0 Command: chmod a+r circRNAprofiler -R && E:\biocbuild\bbs-3.21-bioc\R\bin\R.exe CMD build --keep-empty-dirs --no-resave-data circRNAprofiler StartedAt: 2025-02-12 17:54:44 -0500 (Wed, 12 Feb 2025) EndedAt: 2025-02-12 17:56:43 -0500 (Wed, 12 Feb 2025) EllapsedTime: 119.9 seconds RetCode: 0 Status: OK PackageFile: circRNAprofiler_1.21.0.tar.gz PackageFileSize: 3.491 MiB