Package: cisPath Version: 1.47.0 Maintainer: Likun Wang MaintainerEmail: wanglk at hsc.pku.edu.cn git_url: https://git.bioconductor.org/packages/cisPath git_branch: devel git_last_commit: 7d721c8 git_last_commit_date: 2024-10-29 09:44:40 -0500 (Tue, 29 Oct 2024)