Package: cisPath Version: 1.47.0 Command: /Library/Frameworks/R.framework/Resources/bin/R CMD INSTALL cisPath StartedAt: 2025-02-09 15:01:00 -0500 (Sun, 09 Feb 2025) EndedAt: 2025-02-09 15:01:08 -0500 (Sun, 09 Feb 2025) EllapsedTime: 8.0 seconds RetCode: 0 Status: OK