Package: cisPath Version: 1.47.0 Command: rm -rf cisPath.buildbin-libdir && mkdir cisPath.buildbin-libdir && /Users/biocbuild/BBS/utils/build-universal.sh cisPath_1.47.0.tar.gz /Library/Frameworks/R.framework/Resources/bin/R cisPath.buildbin-libdir StartedAt: 2025-02-10 00:46:49 -0500 (Mon, 10 Feb 2025) EndedAt: 2025-02-10 00:47:08 -0500 (Mon, 10 Feb 2025) EllapsedTime: 19.6 seconds RetCode: 0 Status: OK PackageFile: cisPath_1.47.0.tgz PackageFileSize: 1.091 MiB