Package: cisPath Version: 1.47.0 Command: chmod a+r cisPath -R && E:\biocbuild\bbs-3.21-bioc\R\bin\R.exe CMD build --keep-empty-dirs --no-resave-data cisPath StartedAt: 2025-02-09 17:52:20 -0500 (Sun, 09 Feb 2025) EndedAt: 2025-02-09 17:53:55 -0500 (Sun, 09 Feb 2025) EllapsedTime: 95.3 seconds RetCode: 0 Status: OK PackageFile: cisPath_1.47.0.tar.gz PackageFileSize: 935.3 KiB