Package: cleanUpdTSeq Version: 1.45.1 Command: /home/biocbuild/R/R/bin/R CMD check --install=check:cleanUpdTSeq.install-out.txt --library=/home/biocbuild/R/R/site-library --no-vignettes --timings cleanUpdTSeq_1.45.1.tar.gz StartedAt: 2025-01-28 09:11:12 -0000 (Tue, 28 Jan 2025) EndedAt: 2025-01-28 09:17:16 -0000 (Tue, 28 Jan 2025) EllapsedTime: 363.3 seconds RetCode: 0 Status: OK CheckDir: cleanUpdTSeq.Rcheck Warnings: 0