Package: cleanUpdTSeq Version: 1.45.1 Command: /Library/Frameworks/R.framework/Resources/bin/R CMD build --keep-empty-dirs --no-resave-data cleanUpdTSeq StartedAt: 2025-02-12 16:15:14 -0500 (Wed, 12 Feb 2025) EndedAt: 2025-02-12 16:16:58 -0500 (Wed, 12 Feb 2025) EllapsedTime: 104.0 seconds RetCode: 0 Status: OK PackageFile: cleanUpdTSeq_1.45.1.tar.gz PackageFileSize: 4.008 MiB